Workbook

Sheet المدخلات
A1: نموذج دراسة جدوى (MGI) — صفحة المدخلات
A3: اسم المشروع | B3: مشروع تجريبي | D3: إرشادات الاستخدام:
A4: الدولة/المدينة | B4: الرياض | D4: • عدّل الخلايا المظللة بالأزرق فقط. • الأرقام شهرية. • المدة الزمنية: 36 شهرًا بدءًا من شهر البدء.
A5: العملة | B5: SAR
A6: تاريخ البدء (YYYY-MM) | B6: 2025-08
A8: الاستثمار الأولي (CapEx) | B8: 300000
A9: رأس المال العامل | B9: 20000
A10: سنوات الإهتلاك | B10: 5
A12: الوحدات المباعة شهريًا (الانطلاق) | B12: 1000
A13: نمو الوحدات الشهري % | B13: 3
A14: سعر البيع للوحدة | B14: 50
A15: تكلفة الوحدة (COGS) | B15: 25
A16: إجمالي التكاليف الثابتة | B16: =SUM(B18:B22) -> 58000
A17: التكاليف الثابتة الشهرية
A18: الإيجار | B18: 15000
A19: الرواتب | B19: 30000
A20: المرافق | B20: 3000
A21: التسويق | B21: 5000
A22: أخرى | B22: 5000
A24: معدل الضريبة % | B24: 15
A25: التضخم السنوي % | B25: 2

Sheet النموذج الشهري
A1: الملخص الشهري (36 شهرًا)
A2: الشهر | B2: الوحدات | C2: السعر | D2: الإيرادات | E2: تكلفة متغيرة | F2: هامش إجمالي | G2: تكاليف ثابتة | H2: EBITDA | I2: الإهتلاك | J2: الربح قبل الضريبة | K2: الضريبة | L2: الربح الصافي | M2: التدفق النقدي | N2: التدفق التراكمي | Q2: مؤشرات رئيسية
A4: 0 | B4: 0 | C4: 0 | D4: 0 | E4: 0 | F4: 0 | G4: 0 | H4: 0 | I4: 0 | J4: 0 | K4: 0 | L4: 0 | M4: =-('المدخلات'!B8 + 'المدخلات'!B9) -> -320000 | N4: =M4 -> -320000 | Q4: إجمالي التدفقات الداخلة (36 شهر) | R4: =SUM(M5:M40) -> -571992.23
A5: 1 | B5: ='المدخلات'!B12 -> 1000 | C5: ='المدخلات'!B14 -> 50 | D5: =B5*C5 -> 50000 | E5: =B5*'المدخلات'!B15 -> 25000 | F5: =D5-E5 -> 25000 | G5: ='المدخلات'!B16*POWER(1+'المدخلات'!B25/100, (A5/12)) -> 58095.792 | H5: =F5-G5 -> -33095.792 | I5: ='المدخلات'!B8/('المدخلات'!B10*12) -> 5000 | J5: =H5-I5 -> -38095.792 | K5: =IF(J5>0, J5*'المدخلات'!B24/100, 0) -> 0 | L5: =J5-K5 -> -38095.792 | M5: =L5+I5 -> -33095.792 | N5: =N4+M5 -> -353095.79 | Q5: التدفق الأولي (شهر 0) | R5: =M4 -> -320000
A6: 2 | B6: =B5*(1+'المدخلات'!B13/100) -> 1030 | C6: ='المدخلات'!B14 -> 50 | D6: =B6*C6 -> 51500 | E6: =B6*'المدخلات'!B15 -> 25750 | F6: =D6-E6 -> 25750 | G6: ='المدخلات'!B16*POWER(1+'المدخلات'!B25/100, (A6/12)) -> 58191.742 | H6: =F6-G6 -> -32441.742 | I6: ='المدخلات'!B8/('المدخلات'!B10*12) -> 5000 | J6: =H6-I6 -> -37441.742 | K6: =IF(J6>0, J6*'المدخلات'!B24/100, 0) -> 0 | L6: =J6-K6 -> -37441.742 | M6: =L6+I6 -> -32441.742 | N6: =N5+M6 -> -385537.53 | Q6: ROI العائد على الاستثمار | R6: =IF(R5<>0, (R4+R5)/-R5 - 1, "-") -> -3.7874757
A7: 3 | B7: =B6*(1+'المدخلات'!B13/100) -> 1060.9 | C7: ='المدخلات'!B14 -> 50 | D7: =B7*C7 -> 53045 | E7: =B7*'المدخلات'!B15 -> 26522.5 | F7: =D7-E7 -> 26522.5 | G7: ='المدخلات'!B16*POWER(1+'المدخلات'!B25/100, (A7/12)) -> 58287.85 | H7: =F7-G7 -> -31765.35 | I7: ='المدخلات'!B8/('المدخلات'!B10*12) -> 5000 | J7: =H7-I7 -> -36765.35 | K7: =IF(J7>0, J7*'المدخلات'!B24/100, 0) -> 0 | L7: =J7-K7 -> -36765.35 | M7: =L7+I7 -> -31765.35 | N7: =N6+M7 -> -417302.88 | Q7: IRR (36 شهر + شهر 0) | R7: =IRR(M4:M40) -> -0.16292274
A8: 4 | B8: =B7*(1+'المدخلات'!B13/100) -> 1092.727 | C8: ='المدخلات'!B14 -> 50 | D8: =B8*C8 -> 54636.35 | E8: =B8*'المدخلات'!B15 -> 27318.175 | F8: =D8-E8 -> 27318.175 | G8: ='المدخلات'!B16*POWER(1+'المدخلات'!B25/100, (A8/12)) -> 58384.117 | H8: =F8-G8 -> -31065.942 | I8: ='المدخلات'!B8/('المدخلات'!B10*12) -> 5000 | J8: =H8-I8 -> -36065.942 | K8: =IF(J8>0, J8*'المدخلات'!B24/100, 0) -> 0 | L8: =J8-K8 -> -36065.942 | M8: =L8+I8 -> -31065.942 | N8: =N7+M8 -> -448368.83 | Q8: نقطة التعادل (وحدة/شهر) | R8: =IF('المدخلات'!B14>'المدخلات'!B15, 'المدخلات'!B16/('المدخلات'!B14-'المدخلات'!B15), "غير معرف") -> 2320
A9: 5 | B9: =B8*(1+'المدخلات'!B13/100) -> 1125.5088 | C9: ='المدخلات'!B14 -> 50 | D9: =B9*C9 -> 56275.44 | E9: =B9*'المدخلات'!B15 -> 28137.72 | F9: =D9-E9 -> 28137.72 | G9: ='المدخلات'!B16*POWER(1+'المدخلات'!B25/100, (A9/12)) -> 58480.543 | H9: =F9-G9 -> -30342.823 | I9: ='المدخلات'!B8/('المدخلات'!B10*12) -> 5000 | J9: =H9-I9 -> -35342.823 | K9: =IF(J9>0, J9*'المدخلات'!B24/100, 0) -> 0 | L9: =J9-K9 -> -35342.823 | M9: =L9+I9 -> -30342.823 | N9: =N8+M9 -> -478711.65
A10: 6 | B10: =B9*(1+'المدخلات'!B13/100) -> 1159.2741 | C10: ='المدخلات'!B14 -> 50 | D10: =B10*C10 -> 57963.704 | E10: =B10*'المدخلات'!B15 -> 28981.852 | F10: =D10-E10 -> 28981.852 | G10: ='المدخلات'!B16*POWER(1+'المدخلات'!B25/100, (A10/12)) -> 58577.129 | H10: =F10-G10 -> -29595.277 | I10: ='المدخلات'!B8/('المدخلات'!B10*12) -> 5000 | J10: =H10-I10 -> -34595.277 | K10: =IF(J10>0, J10*'المدخلات'!B24/100, 0) -> 0 | L10: =J10-K10 -> -34595.277 | M10: =L10+I10 -> -29595.277 | N10: =N9+M10 -> -508306.93
A11: 7 | B11: =B10*(1+'المدخلات'!B13/100) -> 1194.0523 | C11: ='المدخلات'!B14 -> 50 | D11: =B11*C11 -> 59702.615 | E11: =B11*'المدخلات'!B15 -> 29851.307 | F11: =D11-E11 -> 29851.307 | G11: ='المدخلات'!B16*POWER(1+'المدخلات'!B25/100, (A11/12)) -> 58673.874 | H11: =F11-G11 -> -28822.566 | I11: ='المدخلات'!B8/('المدخلات'!B10*12) -> 5000 | J11: =H11-I11 -> -33822.566 | K11: =IF(J11>0, J11*'المدخلات'!B24/100, 0) -> 0 | L11: =J11-K11 -> -33822.566 | M11: =L11+I11 -> -28822.566 | N11: =N10+M11 -> -537129.49
A12: 8 | B12: =B11*(1+'المدخلات'!B13/100) -> 1229.8739 | C12: ='المدخلات'!B14 -> 50 | D12: =B12*C12 -> 61493.693 | E12: =B12*'المدخلات'!B15 -> 30746.847 | F12: =D12-E12 -> 30746.847 | G12: ='المدخلات'!B16*POWER(1+'المدخلات'!B25/100, (A12/12)) -> 58770.778 | H12: =F12-G12 -> -28023.932 | I12: ='المدخلات'!B8/('المدخلات'!B10*12) -> 5000 | J12: =H12-I12 -> -33023.932 | K12: =IF(J12>0, J12*'المدخلات'!B24/100, 0) -> 0 | L12: =J12-K12 -> -33023.932 | M12: =L12+I12 -> -28023.932 | N12: =N11+M12 -> -565153.42
A13: 9 | B13: =B12*(1+'المدخلات'!B13/100) -> 1266.7701 | C13: ='المدخلات'!B14 -> 50 | D13: =B13*C13 -> 63338.504 | E13: =B13*'المدخلات'!B15 -> 31669.252 | F13: =D13-E13 -> 31669.252 | G13: ='المدخلات'!B16*POWER(1+'المدخلات'!B25/100, (A13/12)) -> 58867.843 | H13: =F13-G13 -> -27198.591 | I13: ='المدخلات'!B8/('المدخلات'!B10*12) -> 5000 | J13: =H13-I13 -> -32198.591 | K13: =IF(J13>0, J13*'المدخلات'!B24/100, 0) -> 0 | L13: =J13-K13 -> -32198.591 | M13: =L13+I13 -> -27198.591 | N13: =N12+M13 -> -592352.01
A14: 10 | B14: =B13*(1+'المدخلات'!B13/100) -> 1304.7732 | C14: ='المدخلات'!B14 -> 50 | D14: =B14*C14 -> 65238.659 | E14: =B14*'المدخلات'!B15 -> 32619.33 | F14: =D14-E14 -> 32619.33 | G14: ='المدخلات'!B16*POWER(1+'المدخلات'!B25/100, (A14/12)) -> 58965.068 | H14: =F14-G14 -> -26345.738 | I14: ='المدخلات'!B8/('المدخلات'!B10*12) -> 5000 | J14: =H14-I14 -> -31345.738 | K14: =IF(J14>0, J14*'المدخلات'!B24/100, 0) -> 0 | L14: =J14-K14 -> -31345.738 | M14: =L14+I14 -> -26345.738 | N14: =N13+M14 -> -618697.75
A15: 11 | B15: =B14*(1+'المدخلات'!B13/100) -> 1343.9164 | C15: ='المدخلات'!B14 -> 50 | D15: =B15*C15 -> 67195.819 | E15: =B15*'المدخلات'!B15 -> 33597.909 | F15: =D15-E15 -> 33597.909 | G15: ='المدخلات'!B16*POWER(1+'المدخلات'!B25/100, (A15/12)) -> 59062.454 | H15: =F15-G15 -> -25464.544 | I15: ='المدخلات'!B8/('المدخلات'!B10*12) -> 5000 | J15: =H15-I15 -> -30464.544 | K15: =IF(J15>0, J15*'المدخلات'!B24/100, 0) -> 0 | L15: =J15-K15 -> -30464.544 | M15: =L15+I15 -> -25464.544 | N15: =N14+M15 -> -644162.3
A16: 12 | B16: =B15*(1+'المدخلات'!B13/100) -> 1384.2339 | C16: ='المدخلات'!B14 -> 50 | D16: =B16*C16 -> 69211.694 | E16: =B16*'المدخلات'!B15 -> 34605.847 | F16: =D16-E16 -> 34605.847 | G16: ='المدخلات'!B16*POWER(1+'المدخلات'!B25/100, (A16/12)) -> 59160 | H16: =F16-G16 -> -24554.153 | I16: ='المدخلات'!B8/('المدخلات'!B10*12) -> 5000 | J16: =H16-I16 -> -29554.153 | K16: =IF(J16>0, J16*'المدخلات'!B24/100, 0) -> 0 | L16: =J16-K16 -> -29554.153 | M16: =L16+I16 -> -24554.153 | N16: =N15+M16 -> -668716.45
A17: 13 | B17: =B16*(1+'المدخلات'!B13/100) -> 1425.7609 | C17: ='المدخلات'!B14 -> 50 | D17: =B17*C17 -> 71288.044 | E17: =B17*'المدخلات'!B15 -> 35644.022 | F17: =D17-E17 -> 35644.022 | G17: ='المدخلات'!B16*POWER(1+'المدخلات'!B25/100, (A17/12)) -> 59257.708 | H17: =F17-G17 -> -23613.685 | I17: ='المدخلات'!B8/('المدخلات'!B10*12) -> 5000 | J17: =H17-I17 -> -28613.685 | K17: =IF(J17>0, J17*'المدخلات'!B24/100, 0) -> 0 | L17: =J17-K17 -> -28613.685 | M17: =L17+I17 -> -23613.685 | N17: =N16+M17 -> -692330.14
A18: 14 | B18: =B17*(1+'المدخلات'!B13/100) -> 1468.5337 | C18: ='المدخلات'!B14 -> 50 | D18: =B18*C18 -> 73426.686 | E18: =B18*'المدخلات'!B15 -> 36713.343 | F18: =D18-E18 -> 36713.343 | G18: ='المدخلات'!B16*POWER(1+'المدخلات'!B25/100, (A18/12)) -> 59355.576 | H18: =F18-G18 -> -22642.234 | I18: ='المدخلات'!B8/('المدخلات'!B10*12) -> 5000 | J18: =H18-I18 -> -27642.234 | K18: =IF(J18>0, J18*'المدخلات'!B24/100, 0) -> 0 | L18: =J18-K18 -> -27642.234 | M18: =L18+I18 -> -22642.234 | N18: =N17+M18 -> -714972.37
A19: 15 | B19: =B18*(1+'المدخلات'!B13/100) -> 1512.5897 | C19: ='المدخلات'!B14 -> 50 | D19: =B19*C19 -> 75629.486 | E19: =B19*'المدخلات'!B15 -> 37814.743 | F19: =D19-E19 -> 37814.743 | G19: ='المدخلات'!B16*POWER(1+'المدخلات'!B25/100, (A19/12)) -> 59453.607 | H19: =F19-G19 -> -21638.864 | I19: ='المدخلات'!B8/('المدخلات'!B10*12) -> 5000 | J19: =H19-I19 -> -26638.864 | K19: =IF(J19>0, J19*'المدخلات'!B24/100, 0) -> 0 | L19: =J19-K19 -> -26638.864 | M19: =L19+I19 -> -21638.864 | N19: =N18+M19 -> -736611.23
A20: 16 | B20: =B19*(1+'المدخلات'!B13/100) -> 1557.9674 | C20: ='المدخلات'!B14 -> 50 | D20: =B20*C20 -> 77898.371 | E20: =B20*'المدخلات'!B15 -> 38949.185 | F20: =D20-E20 -> 38949.185 | G20: ='المدخلات'!B16*POWER(1+'المدخلات'!B25/100, (A20/12)) -> 59551.8 | H20: =F20-G20 -> -20602.614 | I20: ='المدخلات'!B8/('المدخلات'!B10*12) -> 5000 | J20: =H20-I20 -> -25602.614 | K20: =IF(J20>0, J20*'المدخلات'!B24/100, 0) -> 0 | L20: =J20-K20 -> -25602.614 | M20: =L20+I20 -> -20602.614 | N20: =N19+M20 -> -757213.85
A21: 17 | B21: =B20*(1+'المدخلات'!B13/100) -> 1604.7064 | C21: ='المدخلات'!B14 -> 50 | D21: =B21*C21 -> 80235.322 | E21: =B21*'المدخلات'!B15 -> 40117.661 | F21: =D21-E21 -> 40117.661 | G21: ='المدخلات'!B16*POWER(1+'المدخلات'!B25/100, (A21/12)) -> 59650.154 | H21: =F21-G21 -> -19532.493 | I21: ='المدخلات'!B8/('المدخلات'!B10*12) -> 5000 | J21: =H21-I21 -> -24532.493 | K21: =IF(J21>0, J21*'المدخلات'!B24/100, 0) -> 0 | L21: =J21-K21 -> -24532.493 | M21: =L21+I21 -> -19532.493 | N21: =N20+M21 -> -776746.34
A22: 18 | B22: =B21*(1+'المدخلات'!B13/100) -> 1652.8476 | C22: ='المدخلات'!B14 -> 50 | D22: =B22*C22 -> 82642.382 | E22: =B22*'المدخلات'!B15 -> 41321.191 | F22: =D22-E22 -> 41321.191 | G22: ='المدخلات'!B16*POWER(1+'المدخلات'!B25/100, (A22/12)) -> 59748.671 | H22: =F22-G22 -> -18427.48 | I22: ='المدخلات'!B8/('المدخلات'!B10*12) -> 5000 | J22: =H22-I22 -> -23427.48 | K22: =IF(J22>0, J22*'المدخلات'!B24/100, 0) -> 0 | L22: =J22-K22 -> -23427.48 | M22: =L22+I22 -> -18427.48 | N22: =N21+M22 -> -795173.82
A23: 19 | B23: =B22*(1+'المدخلات'!B13/100) -> 1702.4331 | C23: ='المدخلات'!B14 -> 50 | D23: =B23*C23 -> 85121.653 | E23: =B23*'المدخلات'!B15 -> 42560.827 | F23: =D23-E23 -> 42560.827 | G23: ='المدخلات'!B16*POWER(1+'المدخلات'!B25/100, (A23/12)) -> 59847.351 | H23: =F23-G23 -> -17286.524 | I23: ='المدخلات'!B8/('المدخلات'!B10*12) -> 5000 | J23: =H23-I23 -> -22286.524 | K23: =IF(J23>0, J23*'المدخلات'!B24/100, 0) -> 0 | L23: =J23-K23 -> -22286.524 | M23: =L23+I23 -> -17286.524 | N23: =N22+M23 -> -812460.34
A24: 20 | B24: =B23*(1+'المدخلات'!B13/100) -> 1753.5061 | C24: ='المدخلات'!B14 -> 50 | D24: =B24*C24 -> 87675.303 | E24: =B24*'المدخلات'!B15 -> 43837.651 | F24: =D24-E24 -> 43837.651 | G24: ='المدخلات'!B16*POWER(1+'المدخلات'!B25/100, (A24/12)) -> 59946.194 | H24: =F24-G24 -> -16108.542 | I24: ='المدخلات'!B8/('المدخلات'!B10*12) -> 5000 | J24: =H24-I24 -> -21108.542 | K24: =IF(J24>0, J24*'المدخلات'!B24/100, 0) -> 0 | L24: =J24-K24 -> -21108.542 | M24: =L24+I24 -> -16108.542 | N24: =N23+M24 -> -828568.89
A25: 21 | B25: =B24*(1+'المدخلات'!B13/100) -> 1806.1112 | C25: ='المدخلات'!B14 -> 50 | D25: =B25*C25 -> 90305.562 | E25: =B25*'المدخلات'!B15 -> 45152.781 | F25: =D25-E25 -> 45152.781 | G25: ='المدخلات'!B16*POWER(1+'المدخلات'!B25/100, (A25/12)) -> 60045.2 | H25: =F25-G25 -> -14892.419 | I25: ='المدخلات'!B8/('المدخلات'!B10*12) -> 5000 | J25: =H25-I25 -> -19892.419 | K25: =IF(J25>0, J25*'المدخلات'!B24/100, 0) -> 0 | L25: =J25-K25 -> -19892.419 | M25: =L25+I25 -> -14892.419 | N25: =N24+M25 -> -843461.31
A26: 22 | B26: =B25*(1+'المدخلات'!B13/100) -> 1860.2946 | C26: ='المدخلات'!B14 -> 50 | D26: =B26*C26 -> 93014.729 | E26: =B26*'المدخلات'!B15 -> 46507.364 | F26: =D26-E26 -> 46507.364 | G26: ='المدخلات'!B16*POWER(1+'المدخلات'!B25/100, (A26/12)) -> 60144.369 | H26: =F26-G26 -> -13637.005 | I26: ='المدخلات'!B8/('المدخلات'!B10*12) -> 5000 | J26: =H26-I26 -> -18637.005 | K26: =IF(J26>0, J26*'المدخلات'!B24/100, 0) -> 0 | L26: =J26-K26 -> -18637.005 | M26: =L26+I26 -> -13637.005 | N26: =N25+M26 -> -857098.31
A27: 23 | B27: =B26*(1+'المدخلات'!B13/100) -> 1916.1034 | C27: ='المدخلات'!B14 -> 50 | D27: =B27*C27 -> 95805.17 | E27: =B27*'المدخلات'!B15 -> 47902.585 | F27: =D27-E27 -> 47902.585 | G27: ='المدخلات'!B16*POWER(1+'المدخلات'!B25/100, (A27/12)) -> 60243.703 | H27: =F27-G27 -> -12341.117 | I27: ='المدخلات'!B8/('المدخلات'!B10*12) -> 5000 | J27: =H27-I27 -> -17341.117 | K27: =IF(J27>0, J27*'المدخلات'!B24/100, 0) -> 0 | L27: =J27-K27 -> -17341.117 | M27: =L27+I27 -> -12341.117 | N27: =N26+M27 -> -869439.43
A28: 24 | B28: =B27*(1+'المدخلات'!B13/100) -> 1973.5865 | C28: ='المدخلات'!B14 -> 50 | D28: =B28*C28 -> 98679.326 | E28: =B28*'المدخلات'!B15 -> 49339.663 | F28: =D28-E28 -> 49339.663 | G28: ='المدخلات'!B16*POWER(1+'المدخلات'!B25/100, (A28/12)) -> 60343.2 | H28: =F28-G28 -> -11003.537 | I28: ='المدخلات'!B8/('المدخلات'!B10*12) -> 5000 | J28: =H28-I28 -> -16003.537 | K28: =IF(J28>0, J28*'المدخلات'!B24/100, 0) -> 0 | L28: =J28-K28 -> -16003.537 | M28: =L28+I28 -> -11003.537 | N28: =N27+M28 -> -880442.97
A29: 25 | B29: =B28*(1+'المدخلات'!B13/100) -> 2032.7941 | C29: ='المدخلات'!B14 -> 50 | D29: =B29*C29 -> 101639.71 | E29: =B29*'المدخلات'!B15 -> 50819.853 | F29: =D29-E29 -> 50819.853 | G29: ='المدخلات'!B16*POWER(1+'المدخلات'!B25/100, (A29/12)) -> 60442.862 | H29: =F29-G29 -> -9623.009 | I29: ='المدخلات'!B8/('المدخلات'!B10*12) -> 5000 | J29: =H29-I29 -> -14623.009 | K29: =IF(J29>0, J29*'المدخلات'!B24/100, 0) -> 0 | L29: =J29-K29 -> -14623.009 | M29: =L29+I29 -> -9623.009 | N29: =N28+M29 -> -890065.97
A30: 26 | B30: =B29*(1+'المدخلات'!B13/100) -> 2093.7779 | C30: ='المدخلات'!B14 -> 50 | D30: =B30*C30 -> 104688.9 | E30: =B30*'المدخلات'!B15 -> 52344.448 | F30: =D30-E30 -> 52344.448 | G30: ='المدخلات'!B16*POWER(1+'المدخلات'!B25/100, (A30/12)) -> 60542.688 | H30: =F30-G30 -> -8198.2398 | I30: ='المدخلات'!B8/('المدخلات'!B10*12) -> 5000 | J30: =H30-I30 -> -13198.24 | K30: =IF(J30>0, J30*'المدخلات'!B24/100, 0) -> 0 | L30: =J30-K30 -> -13198.24 | M30: =L30+I30 -> -8198.2398 | N30: =N29+M30 -> -898264.21
A31: 27 | B31: =B30*(1+'المدخلات'!B13/100) -> 2156.5913 | C31: ='المدخلات'!B14 -> 50 | D31: =B31*C31 -> 107829.56 | E31: =B31*'المدخلات'!B15 -> 53914.782 | F31: =D31-E31 -> 53914.782 | G31: ='المدخلات'!B16*POWER(1+'المدخلات'!B25/100, (A31/12)) -> 60642.679 | H31: =F31-G31 -> -6727.8975 | I31: ='المدخلات'!B8/('المدخلات'!B10*12) -> 5000 | J31: =H31-I31 -> -11727.897 | K31: =IF(J31>0, J31*'المدخلات'!B24/100, 0) -> 0 | L31: =J31-K31 -> -11727.897 | M31: =L31+I31 -> -6727.8975 | N31: =N30+M31 -> -904992.11
A32: 28 | B32: =B31*(1+'المدخلات'!B13/100) -> 2221.289 | C32: ='المدخلات'!B14 -> 50 | D32: =B32*C32 -> 111064.45 | E32: =B32*'المدخلات'!B15 -> 55532.225 | F32: =D32-E32 -> 55532.225 | G32: ='المدخلات'!B16*POWER(1+'المدخلات'!B25/100, (A32/12)) -> 60742.835 | H32: =F32-G32 -> -5210.6103 | I32: ='المدخلات'!B8/('المدخلات'!B10*12) -> 5000 | J32: =H32-I32 -> -10210.61 | K32: =IF(J32>0, J32*'المدخلات'!B24/100, 0) -> 0 | L32: =J32-K32 -> -10210.61 | M32: =L32+I32 -> -5210.6103 | N32: =N31+M32 -> -910202.72
A33: 29 | B33: =B32*(1+'المدخلات'!B13/100) -> 2287.9277 | C33: ='المدخلات'!B14 -> 50 | D33: =B33*C33 -> 114396.38 | E33: =B33*'المدخلات'!B15 -> 57198.192 | F33: =D33-E33 -> 57198.192 | G33: ='المدخلات'!B16*POWER(1+'المدخلات'!B25/100, (A33/12)) -> 60843.157 | H33: =F33-G33 -> -3644.9653 | I33: ='المدخلات'!B8/('المدخلات'!B10*12) -> 5000 | J33: =H33-I33 -> -8644.9653 | K33: =IF(J33>0, J33*'المدخلات'!B24/100, 0) -> 0 | L33: =J33-K33 -> -8644.9653 | M33: =L33+I33 -> -3644.9653 | N33: =N32+M33 -> -913847.69
A34: 30 | B34: =B33*(1+'المدخلات'!B13/100) -> 2356.5655 | C34: ='المدخلات'!B14 -> 50 | D34: =B34*C34 -> 117828.28 | E34: =B34*'المدخلات'!B15 -> 58914.138 | F34: =D34-E34 -> 58914.138 | G34: ='المدخلات'!B16*POWER(1+'المدخلات'!B25/100, (A34/12)) -> 60943.645 | H34: =F34-G34 -> -2029.507 | I34: ='المدخلات'!B8/('المدخلات'!B10*12) -> 5000 | J34: =H34-I34 -> -7029.507 | K34: =IF(J34>0, J34*'المدخلات'!B24/100, 0) -> 0 | L34: =J34-K34 -> -7029.507 | M34: =L34+I34 -> -2029.507 | N34: =N33+M34 -> -915877.19
A35: 31 | B35: =B34*(1+'المدخلات'!B13/100) -> 2427.2625 | C35: ='المدخلات'!B14 -> 50 | D35: =B35*C35 -> 121363.12 | E35: =B35*'المدخلات'!B15 -> 60681.562 | F35: =D35-E35 -> 60681.562 | G35: ='المدخلات'!B16*POWER(1+'المدخلات'!B25/100, (A35/12)) -> 61044.298 | H35: =F35-G35 -> -362.73624 | I35: ='المدخلات'!B8/('المدخلات'!B10*12) -> 5000 | J35: =H35-I35 -> -5362.7362 | K35: =IF(J35>0, J35*'المدخلات'!B24/100, 0) -> 0 | L35: =J35-K35 -> -5362.7362 | M35: =L35+I35 -> -362.73624 | N35: =N34+M35 -> -916239.93
A36: 32 | B36: =B35*(1+'المدخلات'!B13/100) -> 2500.0803 | C36: ='المدخلات'!B14 -> 50 | D36: =B36*C36 -> 125004.02 | E36: =B36*'المدخلات'!B15 -> 62502.009 | F36: =D36-E36 -> 62502.009 | G36: ='المدخلات'!B16*POWER(1+'المدخلات'!B25/100, (A36/12)) -> 61145.118 | H36: =F36-G36 -> 1356.891 | I36: ='المدخلات'!B8/('المدخلات'!B10*12) -> 5000 | J36: =H36-I36 -> -3643.109 | K36: =IF(J36>0, J36*'المدخلات'!B24/100, 0) -> 0 | L36: =J36-K36 -> -3643.109 | M36: =L36+I36 -> 1356.891 | N36: =N35+M36 -> -914883.04
A37: 33 | B37: =B36*(1+'المدخلات'!B13/100) -> 2575.0828 | C37: ='المدخلات'!B14 -> 50 | D37: =B37*C37 -> 128754.14 | E37: =B37*'المدخلات'!B15 -> 64377.069 | F37: =D37-E37 -> 64377.069 | G37: ='المدخلات'!B16*POWER(1+'المدخلات'!B25/100, (A37/12)) -> 61246.104 | H37: =F37-G37 -> 3130.9651 | I37: ='المدخلات'!B8/('المدخلات'!B10*12) -> 5000 | J37: =H37-I37 -> -1869.0349 | K37: =IF(J37>0, J37*'المدخلات'!B24/100, 0) -> 0 | L37: =J37-K37 -> -1869.0349 | M37: =L37+I37 -> 3130.9651 | N37: =N36+M37 -> -911752.07
A38: 34 | B38: =B37*(1+'المدخلات'!B13/100) -> 2652.3352 | C38: ='المدخلات'!B14 -> 50 | D38: =B38*C38 -> 132616.76 | E38: =B38*'المدخلات'!B15 -> 66308.381 | F38: =D38-E38 -> 66308.381 | G38: ='المدخلات'!B16*POWER(1+'المدخلات'!B25/100, (A38/12)) -> 61347.257 | H38: =F38-G38 -> 4961.1243 | I38: ='المدخلات'!B8/('المدخلات'!B10*12) -> 5000 | J38: =H38-I38 -> -38.875739 | K38: =IF(J38>0, J38*'المدخلات'!B24/100, 0) -> 0 | L38: =J38-K38 -> -38.875739 | M38: =L38+I38 -> 4961.1243 | N38: =N37+M38 -> -906790.95
A39: 35 | B39: =B38*(1+'المدخلات'!B13/100) -> 2731.9053 | C39: ='المدخلات'!B14 -> 50 | D39: =B39*C39 -> 136595.26 | E39: =B39*'المدخلات'!B15 -> 68297.632 | F39: =D39-E39 -> 68297.632 | G39: ='المدخلات'!B16*POWER(1+'المدخلات'!B25/100, (A39/12)) -> 61448.577 | H39: =F39-G39 -> 6849.0557 | I39: ='المدخلات'!B8/('المدخلات'!B10*12) -> 5000 | J39: =H39-I39 -> 1849.0557 | K39: =IF(J39>0, J39*'المدخلات'!B24/100, 0) -> 277.35836 | L39: =J39-K39 -> 1571.6974 | M39: =L39+I39 -> 6571.6974 | N39: =N38+M39 -> -900219.25
A40: 36 | B40: =B39*(1+'المدخلات'!B13/100) -> 2813.8625 | C40: ='المدخلات'!B14 -> 50 | D40: =B40*C40 -> 140693.12 | E40: =B40*'المدخلات'!B15 -> 70346.561 | F40: =D40-E40 -> 70346.561 | G40: ='المدخلات'!B16*POWER(1+'المدخلات'!B25/100, (A40/12)) -> 61550.064 | H40: =F40-G40 -> 8796.4974 | I40: ='المدخلات'!B8/('المدخلات'!B10*12) -> 5000 | J40: =H40-I40 -> 3796.4974 | K40: =IF(J40>0, J40*'المدخلات'!B24/100, 0) -> 569.4746 | L40: =J40-K40 -> 3227.0228 | M40: =L40+I40 -> 8227.0228 | N40: =N39+M40 -> -891992.23

Sheet إرشادات
A1: إرشادات سريعة لاستخدام نموذج MGI
A3: 1) عدّل المدخلات الزرقاء. 2) راجع النموذج والمؤشرات. 3) استخدم Investor Brief لعرض صفحة واحدة.
